BEGIN:VCALENDAR
VERSION:2.0
PRODID:-//Ipswich Museum - ECPv6.15.18//NONSGML v1.0//EN
CALSCALE:GREGORIAN
METHOD:PUBLISH
X-WR-CALNAME:Ipswich Museum
X-ORIGINAL-URL:https://ipswichmuseum.org
X-WR-CALDESC:Events for Ipswich Museum
REFRESH-INTERVAL;VALUE=DURATION:PT1H
X-Robots-Tag:noindex
X-PUBLISHED-TTL:PT1H
BEGIN:VTIMEZONE
TZID:America/New_York
BEGIN:DAYLIGHT
TZOFFSETFROM:-0500
TZOFFSETTO:-0400
TZNAME:EDT
DTSTART:20250309T070000
END:DAYLIGHT
BEGIN:STANDARD
TZOFFSETFROM:-0400
TZOFFSETTO:-0500
TZNAME:EST
DTSTART:20251102T060000
END:STANDARD
BEGIN:DAYLIGHT
TZOFFSETFROM:-0500
TZOFFSETTO:-0400
TZNAME:EDT
DTSTART:20260308T070000
END:DAYLIGHT
BEGIN:STANDARD
TZOFFSETFROM:-0400
TZOFFSETTO:-0500
TZNAME:EST
DTSTART:20261101T060000
END:STANDARD
BEGIN:DAYLIGHT
TZOFFSETFROM:-0500
TZOFFSETTO:-0400
TZNAME:EDT
DTSTART:20270314T070000
END:DAYLIGHT
BEGIN:STANDARD
TZOFFSETFROM:-0400
TZOFFSETTO:-0500
TZNAME:EST
DTSTART:20271107T060000
END:STANDARD
END:VTIMEZONE
BEGIN:VEVENT
DTSTART;TZID=America/New_York:20260105T120000
DTEND;TZID=America/New_York:20260105T130000
DTSTAMP:20260422T061419
CREATED:20251119T205205Z
LAST-MODIFIED:20260106T200337Z
UID:5356-1767614400-1767618000@ipswichmuseum.org
SUMMARY:Objects of Interest
DESCRIPTION:Join curator\, Katherine Chaison as she selects  items and objects from our vast collection to share with our members. It is always fun to see rare items that are not in public view.
URL:https://ipswichmuseum.org/event/objects-of-interest/
LOCATION:Ipswich Museum\, 54 South Main Street\, Ipswich\, MA\, 01938\, United States
CATEGORIES:Brown Bag Lunch
END:VEVENT
BEGIN:VEVENT
DTSTART;TZID=America/New_York:20260121T193000
DTEND;TZID=America/New_York:20260121T193000
DTSTAMP:20260422T061419
CREATED:20251119T203842Z
LAST-MODIFIED:20260106T201213Z
UID:5340-1769023800-1769023800@ipswichmuseum.org
SUMMARY:The History of Ipswich Education
DESCRIPTION:Scott Jewel\, board member and teacher will talk about Ipswich’s rich history and at the heart of that story is education. From the earliest colonial days\, learning has always been a cornerstone of this community.  Today\, we will explore how education in Ipswich has grown and transformed over the centuries\, and we’ll take a look ahead at where it might be headed in the future. I invite you to join me on this journey through the evolution of education in Ipswich.
URL:https://ipswichmuseum.org/event/the-history-of-ipswich-education/
LOCATION:Ipswich Museum\, 54 South Main Street\, Ipswich\, MA\, 01938\, United States
CATEGORIES:Wednesday Evening Lecture
END:VEVENT
END:VCALENDAR