BEGIN:VCALENDAR
VERSION:2.0
PRODID:-//Ipswich Museum - ECPv6.15.18//NONSGML v1.0//EN
CALSCALE:GREGORIAN
METHOD:PUBLISH
X-ORIGINAL-URL:https://ipswichmuseum.org
X-WR-CALDESC:Events for Ipswich Museum
REFRESH-INTERVAL;VALUE=DURATION:PT1H
X-Robots-Tag:noindex
X-PUBLISHED-TTL:PT1H
BEGIN:VTIMEZONE
TZID:America/New_York
BEGIN:DAYLIGHT
TZOFFSETFROM:-0500
TZOFFSETTO:-0400
TZNAME:EDT
DTSTART:20240310T070000
END:DAYLIGHT
BEGIN:STANDARD
TZOFFSETFROM:-0400
TZOFFSETTO:-0500
TZNAME:EST
DTSTART:20241103T060000
END:STANDARD
BEGIN:DAYLIGHT
TZOFFSETFROM:-0500
TZOFFSETTO:-0400
TZNAME:EDT
DTSTART:20250309T070000
END:DAYLIGHT
BEGIN:STANDARD
TZOFFSETFROM:-0400
TZOFFSETTO:-0500
TZNAME:EST
DTSTART:20251102T060000
END:STANDARD
BEGIN:DAYLIGHT
TZOFFSETFROM:-0500
TZOFFSETTO:-0400
TZNAME:EDT
DTSTART:20260308T070000
END:DAYLIGHT
BEGIN:STANDARD
TZOFFSETFROM:-0400
TZOFFSETTO:-0500
TZNAME:EST
DTSTART:20261101T060000
END:STANDARD
END:VTIMEZONE
BEGIN:VEVENT
DTSTART;TZID=America/New_York:20250203T120000
DTEND;TZID=America/New_York:20250203T130000
DTSTAMP:20260422T184732
CREATED:20241015T185153Z
LAST-MODIFIED:20241015T185247Z
UID:4847-1738584000-1738587600@ipswichmuseum.org
SUMMARY:Spark's Tavern
DESCRIPTION:Gordon Harris\, town historian\, will talk about the importance of Spark’s Tavern and its role serving as a not only a watering hole but an inn\, court house\, and town meeting place. Ipswich did not have a town hall in the 17th century\, but two very important events took place at Spark’s Tavern. It was here in 1686 that the town voted not to appoint a tax collector for the king. This is why Ipswich is known as the “Birthplace of American Independence.” Additionally\, after the infamous witch trials were moved out of Salem to Spark’s Tavern\, the last four accused were tried and found innocent\, and outstanding charges against them were dismissed. \nMembers: Free | Non-members: $5
URL:https://ipswichmuseum.org/event/sparks-tavern/
LOCATION:Ipswich Museum\, 54 South Main Street\, Ipswich\, MA\, 01938\, United States
END:VEVENT
BEGIN:VEVENT
DTSTART;TZID=America/New_York:20250215T130000
DTEND;TZID=America/New_York:20250215T160000
DTSTAMP:20260422T184732
CREATED:20250213T205348Z
LAST-MODIFIED:20250213T205540Z
UID:4947-1739624400-1739635200@ipswichmuseum.org
SUMMARY:Winter Exhibit - "Fiber Arts"
DESCRIPTION:Come in Saturdays and Sundays through early Spring and view fiber arts pieces highlighting everything from Ipswich lace-making and embroidery to modern quilts. 
URL:https://ipswichmuseum.org/event/winter-exhibit-fiber-arts/
LOCATION:MA
END:VEVENT
BEGIN:VEVENT
DTSTART;TZID=America/New_York:20250216T130000
DTEND;TZID=America/New_York:20250216T160000
DTSTAMP:20260422T184732
CREATED:20250213T205509Z
LAST-MODIFIED:20250213T205509Z
UID:4951-1739710800-1739721600@ipswichmuseum.org
SUMMARY:Winter Exhibit - "Fiber Arts"
DESCRIPTION:Come in Saturdays and Sundays through early Spring and view fiber arts pieces highlighting everything from Ipswich lace-making and embroidery to modern quilts! \n \n  \n 
URL:https://ipswichmuseum.org/event/winter-exhibit-fiber-arts-2/
LOCATION:MA
END:VEVENT
BEGIN:VEVENT
DTSTART;TZID=America/New_York:20250219T193000
DTEND;TZID=America/New_York:20250219T210000
DTSTAMP:20260422T184732
CREATED:20241011T182702Z
LAST-MODIFIED:20250129T195300Z
UID:4828-1739993400-1739998800@ipswichmuseum.org
SUMMARY:Ski America First (Documentary)
DESCRIPTION:Join us for an exciting presentation by speaker Tom Blake as he showcases part two of the documentary\, Ski America First\, filmed by Sidney Shurcliff. According to the Park Service Bulletin of 1938\, superintendents of Mount Rainier and Yosemite were bracing for a surge of skiers\, thanks to the stunning all-natural color film\, which skiing authorities have hailed as the finest of its kind in America. \nThis remarkable documentary captivated over 3\,000 viewers during its debut at the National Geographic Society in March 1938 and has enjoyed a dozen successful screenings across the East since then. Don’t miss your chance to experience this cinematic gem that celebrates the beauty and excitement of skiing in America! \nMembers: Free | Non-members: $10
URL:https://ipswichmuseum.org/event/ski-america-first-documentary/
LOCATION:Ipswich Museum\, 54 South Main Street\, Ipswich\, MA\, 01938\, United States
END:VEVENT
BEGIN:VEVENT
DTSTART;TZID=America/New_York:20250222T130000
DTEND;TZID=America/New_York:20250222T160000
DTSTAMP:20260422T184732
CREATED:20250213T205621Z
LAST-MODIFIED:20250213T205621Z
UID:4954-1740229200-1740240000@ipswichmuseum.org
SUMMARY:Winter Exhibit - "Fiber Arts"
DESCRIPTION:Come in Saturdays and Sundays through early Spring and view fiber arts pieces highlighting everything from Ipswich lace-making and embroidery to modern quilts. 
URL:https://ipswichmuseum.org/event/winter-exhibit-fiber-arts-3/
LOCATION:MA
END:VEVENT
BEGIN:VEVENT
DTSTART;TZID=America/New_York:20250223T130000
DTEND;TZID=America/New_York:20250223T160000
DTSTAMP:20260422T184732
CREATED:20250213T205707Z
LAST-MODIFIED:20250213T205707Z
UID:4956-1740315600-1740326400@ipswichmuseum.org
SUMMARY:Winter Exhibit - "Fiber Arts"
DESCRIPTION:Come in Saturdays and Sundays through early Spring and view fiber arts pieces highlighting everything from Ipswich lace-making and embroidery to modern quilts. 
URL:https://ipswichmuseum.org/event/winter-exhibit-fiber-arts-4/
LOCATION:MA
END:VEVENT
END:VCALENDAR