BEGIN:VCALENDAR
VERSION:2.0
PRODID:-//Ipswich Museum - ECPv6.15.18//NONSGML v1.0//EN
CALSCALE:GREGORIAN
METHOD:PUBLISH
X-ORIGINAL-URL:https://ipswichmuseum.org
X-WR-CALDESC:Events for Ipswich Museum
REFRESH-INTERVAL;VALUE=DURATION:PT1H
X-Robots-Tag:noindex
X-PUBLISHED-TTL:PT1H
BEGIN:VTIMEZONE
TZID:America/New_York
BEGIN:DAYLIGHT
TZOFFSETFROM:-0500
TZOFFSETTO:-0400
TZNAME:EDT
DTSTART:20240310T070000
END:DAYLIGHT
BEGIN:STANDARD
TZOFFSETFROM:-0400
TZOFFSETTO:-0500
TZNAME:EST
DTSTART:20241103T060000
END:STANDARD
BEGIN:DAYLIGHT
TZOFFSETFROM:-0500
TZOFFSETTO:-0400
TZNAME:EDT
DTSTART:20250309T070000
END:DAYLIGHT
BEGIN:STANDARD
TZOFFSETFROM:-0400
TZOFFSETTO:-0500
TZNAME:EST
DTSTART:20251102T060000
END:STANDARD
BEGIN:DAYLIGHT
TZOFFSETFROM:-0500
TZOFFSETTO:-0400
TZNAME:EDT
DTSTART:20260308T070000
END:DAYLIGHT
BEGIN:STANDARD
TZOFFSETFROM:-0400
TZOFFSETTO:-0500
TZNAME:EST
DTSTART:20261101T060000
END:STANDARD
END:VTIMEZONE
BEGIN:VEVENT
DTSTART;TZID=America/New_York:20250106T120000
DTEND;TZID=America/New_York:20250106T130000
DTSTAMP:20260422T153653
CREATED:20241015T183740Z
LAST-MODIFIED:20241015T184028Z
UID:4843-1736164800-1736168400@ipswichmuseum.org
SUMMARY:Husifs & Notions: A tisket\, a tasket\, check out the IM's sewing basket!
DESCRIPTION:Join curator Katherine Chaison and Textile Specialist Susan Landry for an exclusive exploration of 200 years of sewing baskets and boxes from the Museum’s collection. From humble handmade pieces to exquisite ornate designs\, this is a must-see for anyone passionate about the art of crafting! \n\n\n\n\nMembers: Free | Non-members: $5
URL:https://ipswichmuseum.org/event/husifs-notions-a-tisket-a-tasket-check-out-the-ims-sewing-basket/
LOCATION:Ipswich Museum\, 54 South Main Street\, Ipswich\, MA\, 01938\, United States
END:VEVENT
BEGIN:VEVENT
DTSTART;TZID=America/New_York:20250115T193000
DTEND;TZID=America/New_York:20250115T210000
DTSTAMP:20260422T153653
CREATED:20241011T180746Z
LAST-MODIFIED:20250114T161108Z
UID:4821-1736969400-1736974800@ipswichmuseum.org
SUMMARY:This is not Your Parents' Solar System
DESCRIPTION:Speaker Scott Jewell\, educator\, will talk about the golden years of space exploration. Our understanding of the solar system has changed so much in the last twenty years. Come spend an evening learning about our current understanding of the inner and outer planets\, the Kuiper Belt\, the Oort cloud\, and all the other interesting objects in our heliosphere. \nMembers: Free | Non-members: $10
URL:https://ipswichmuseum.org/event/this-is-not-your-parents-solar-system/
LOCATION:Ipswich Museum\, 54 South Main Street\, Ipswich\, MA\, 01938\, United States
END:VEVENT
END:VCALENDAR