BEGIN:VCALENDAR
VERSION:2.0
PRODID:-//Ipswich Museum - ECPv6.15.18//NONSGML v1.0//EN
CALSCALE:GREGORIAN
METHOD:PUBLISH
X-ORIGINAL-URL:https://ipswichmuseum.org
X-WR-CALDESC:Events for Ipswich Museum
REFRESH-INTERVAL;VALUE=DURATION:PT1H
X-Robots-Tag:noindex
X-PUBLISHED-TTL:PT1H
BEGIN:VTIMEZONE
TZID:America/New_York
BEGIN:DAYLIGHT
TZOFFSETFROM:-0500
TZOFFSETTO:-0400
TZNAME:EDT
DTSTART:20230312T070000
END:DAYLIGHT
BEGIN:STANDARD
TZOFFSETFROM:-0400
TZOFFSETTO:-0500
TZNAME:EST
DTSTART:20231105T060000
END:STANDARD
BEGIN:DAYLIGHT
TZOFFSETFROM:-0500
TZOFFSETTO:-0400
TZNAME:EDT
DTSTART:20240310T070000
END:DAYLIGHT
BEGIN:STANDARD
TZOFFSETFROM:-0400
TZOFFSETTO:-0500
TZNAME:EST
DTSTART:20241103T060000
END:STANDARD
BEGIN:DAYLIGHT
TZOFFSETFROM:-0500
TZOFFSETTO:-0400
TZNAME:EDT
DTSTART:20250309T070000
END:DAYLIGHT
BEGIN:STANDARD
TZOFFSETFROM:-0400
TZOFFSETTO:-0500
TZNAME:EST
DTSTART:20251102T060000
END:STANDARD
END:VTIMEZONE
BEGIN:VEVENT
DTSTART;TZID=America/New_York:20241007T120000
DTEND;TZID=America/New_York:20241007T130000
DTSTAMP:20260422T105911
CREATED:20231214T144819Z
LAST-MODIFIED:20231214T144819Z
UID:4530-1728302400-1728306000@ipswichmuseum.org
SUMMARY:Bag Lunch Series: Indigenous Heritage of the East Coast and the Migration of Indigenous People
DESCRIPTION:Etay\, Denise Cooper\, Brian Young and other tribal members discuss their rich and honored heritage. The American Antiquarian Society\, built on Nipmuc homelands is a repository for early Algonquian-language monographs\, manuscript collections and early town records containing vital and unique information about Nipmuc and Indigenous peoples of the New England region. \nMembers: Free | Non-members: $5
URL:https://ipswichmuseum.org/event/bag-lunch-series-indigenous-heritage-of-the-east-coast-and-the-migration-of-indigenous-people/
LOCATION:Ipswich Museum\, 54 South Main Street\, Ipswich\, MA\, 01938\, United States
CATEGORIES:Brown Bag Lunch
ORGANIZER;CN="Ipswich Museum":MAILTO:office@ipswichmuseum.org
END:VEVENT
BEGIN:VEVENT
DTSTART;TZID=America/New_York:20241023T193000
DTEND;TZID=America/New_York:20241023T210000
DTSTAMP:20260422T105911
CREATED:20241001T200431Z
LAST-MODIFIED:20241022T152743Z
UID:4815-1729711800-1729717200@ipswichmuseum.org
SUMMARY:Stylish Siblings: David Adler and Frances Elkins\, Interiors at Castle Hill
DESCRIPTION:October 23 @ 7:30 pm – 9:00 pm\n\n\n\nRecent research has revealed that Great House architect David Adler collaborated with his sister\, famed designer Francis Elkins\, for the interiors at Castle Hill. Curator Susan Hill Dolan will discuss their tastemaker style and how it influenced what we see in the Crane mansion elsewhere. \nMembers: Free | Non-members: $10
URL:https://ipswichmuseum.org/event/stylist-siblings-david-adler-and-frances-elkins-interiors-at-castle-hill/
LOCATION:Ipswich Museum\, 54 South Main Street\, Ipswich\, MA\, 01938\, United States
END:VEVENT
END:VCALENDAR