BEGIN:VCALENDAR
VERSION:2.0
PRODID:-//Ipswich Museum - ECPv6.15.18//NONSGML v1.0//EN
CALSCALE:GREGORIAN
METHOD:PUBLISH
X-ORIGINAL-URL:https://ipswichmuseum.org
X-WR-CALDESC:Events for Ipswich Museum
REFRESH-INTERVAL;VALUE=DURATION:PT1H
X-Robots-Tag:noindex
X-PUBLISHED-TTL:PT1H
BEGIN:VTIMEZONE
TZID:America/New_York
BEGIN:DAYLIGHT
TZOFFSETFROM:-0500
TZOFFSETTO:-0400
TZNAME:EDT
DTSTART:20250309T070000
END:DAYLIGHT
BEGIN:STANDARD
TZOFFSETFROM:-0400
TZOFFSETTO:-0500
TZNAME:EST
DTSTART:20251102T060000
END:STANDARD
BEGIN:DAYLIGHT
TZOFFSETFROM:-0500
TZOFFSETTO:-0400
TZNAME:EDT
DTSTART:20260308T070000
END:DAYLIGHT
BEGIN:STANDARD
TZOFFSETFROM:-0400
TZOFFSETTO:-0500
TZNAME:EST
DTSTART:20261101T060000
END:STANDARD
BEGIN:DAYLIGHT
TZOFFSETFROM:-0500
TZOFFSETTO:-0400
TZNAME:EDT
DTSTART:20270314T070000
END:DAYLIGHT
BEGIN:STANDARD
TZOFFSETFROM:-0400
TZOFFSETTO:-0500
TZNAME:EST
DTSTART:20271107T060000
END:STANDARD
END:VTIMEZONE
BEGIN:VEVENT
DTSTART;TZID=America/New_York:20260318T193000
DTEND;TZID=America/New_York:20260318T210000
DTSTAMP:20260420T030752
CREATED:20251119T204211Z
LAST-MODIFIED:20260106T200744Z
UID:5344-1773862200-1773867600@ipswichmuseum.org
SUMMARY:Stop and Smell the Thyme at the Whipple House 17th Century Housewife's Garden
DESCRIPTION:Joe Carlin\, Food historian\, will review the contributions of landscape architects Arthur and Sidney Shurcliff who designed in 1955 the original Whipple House Garden.  In the 1960s Isadore Smith (pseudonym Ann Leighton)\, author of Early American Gardens\, provided leadership to make the garden historically accurate with authentic medicinal and culinary herbs known to have been grown and used in the area. Joe will show how 17th Century women preserved their medicinal solutions for all types of ills in manuscript cookbooks.
URL:https://ipswichmuseum.org/event/stop-and-smell-the-thyme-at-the-whipple-house-17th-century-housewifes-garden/
LOCATION:Ipswich Museum\, 54 South Main Street\, Ipswich\, MA\, 01938\, United States
CATEGORIES:Wednesday Evening Lecture
END:VEVENT
END:VCALENDAR