BEGIN:VCALENDAR
VERSION:2.0
PRODID:-//Ipswich Museum - ECPv6.15.18//NONSGML v1.0//EN
CALSCALE:GREGORIAN
METHOD:PUBLISH
X-WR-CALNAME:Ipswich Museum
X-ORIGINAL-URL:https://ipswichmuseum.org
X-WR-CALDESC:Events for Ipswich Museum
REFRESH-INTERVAL;VALUE=DURATION:PT1H
X-Robots-Tag:noindex
X-PUBLISHED-TTL:PT1H
BEGIN:VTIMEZONE
TZID:America/New_York
BEGIN:DAYLIGHT
TZOFFSETFROM:-0500
TZOFFSETTO:-0400
TZNAME:EDT
DTSTART:20200308T070000
END:DAYLIGHT
BEGIN:STANDARD
TZOFFSETFROM:-0400
TZOFFSETTO:-0500
TZNAME:EST
DTSTART:20201101T060000
END:STANDARD
BEGIN:DAYLIGHT
TZOFFSETFROM:-0500
TZOFFSETTO:-0400
TZNAME:EDT
DTSTART:20210314T070000
END:DAYLIGHT
BEGIN:STANDARD
TZOFFSETFROM:-0400
TZOFFSETTO:-0500
TZNAME:EST
DTSTART:20211107T060000
END:STANDARD
BEGIN:DAYLIGHT
TZOFFSETFROM:-0500
TZOFFSETTO:-0400
TZNAME:EDT
DTSTART:20220313T070000
END:DAYLIGHT
BEGIN:STANDARD
TZOFFSETFROM:-0400
TZOFFSETTO:-0500
TZNAME:EST
DTSTART:20221106T060000
END:STANDARD
BEGIN:DAYLIGHT
TZOFFSETFROM:-0500
TZOFFSETTO:-0400
TZNAME:EDT
DTSTART:20230312T070000
END:DAYLIGHT
BEGIN:STANDARD
TZOFFSETFROM:-0400
TZOFFSETTO:-0500
TZNAME:EST
DTSTART:20231105T060000
END:STANDARD
BEGIN:DAYLIGHT
TZOFFSETFROM:-0500
TZOFFSETTO:-0400
TZNAME:EDT
DTSTART:20240310T070000
END:DAYLIGHT
BEGIN:STANDARD
TZOFFSETFROM:-0400
TZOFFSETTO:-0500
TZNAME:EST
DTSTART:20241103T060000
END:STANDARD
BEGIN:DAYLIGHT
TZOFFSETFROM:-0500
TZOFFSETTO:-0400
TZNAME:EDT
DTSTART:20250309T070000
END:DAYLIGHT
BEGIN:STANDARD
TZOFFSETFROM:-0400
TZOFFSETTO:-0500
TZNAME:EST
DTSTART:20251102T060000
END:STANDARD
BEGIN:DAYLIGHT
TZOFFSETFROM:-0500
TZOFFSETTO:-0400
TZNAME:EDT
DTSTART:20260308T070000
END:DAYLIGHT
BEGIN:STANDARD
TZOFFSETFROM:-0400
TZOFFSETTO:-0500
TZNAME:EST
DTSTART:20261101T060000
END:STANDARD
BEGIN:DAYLIGHT
TZOFFSETFROM:-0500
TZOFFSETTO:-0400
TZNAME:EDT
DTSTART:20270314T070000
END:DAYLIGHT
BEGIN:STANDARD
TZOFFSETFROM:-0400
TZOFFSETTO:-0500
TZNAME:EST
DTSTART:20271107T060000
END:STANDARD
END:VTIMEZONE
BEGIN:VEVENT
DTSTART;TZID=America/New_York:20260419T140000
DTEND;TZID=America/New_York:20260419T150000
DTSTAMP:20260422T061531
CREATED:20260211T182429Z
LAST-MODIFIED:20260219T190039Z
UID:5422-1776607200-1776610800@ipswichmuseum.org
SUMMARY:The Life and Work of Arthur Wesley Dow Sunday Stroll
DESCRIPTION:Join Ipswich Museum’s Dow Curator\, Stephanie Gaskins\, for a tour of some locations in town related to Dow’s career as one of Ipswich’s most prolific and celebrated painters of the 20th century. \nWhen: Sunday April 19\, 2026 2-3PM \nWhere: The tour will depart from the Ipswich Museum parking lot at 2PM and will last 45-60 minutes. \nCost: $10 Members / $15 Non-members \nTours take place rain or shine\, please dress accordingly. In the event of extreme weather\, they will be cancelled and tickets refunded.
URL:https://ipswichmuseum.org/event/the-life-and-work-of-arthur-wesley-dow-sunday-stroll/
LOCATION:Ipswich Museum\, 54 South Main Street\, Ipswich\, MA\, 01938\, United States
CATEGORIES:Sunday Stroll
END:VEVENT
BEGIN:VEVENT
DTSTART;TZID=America/New_York:20230604T140000
DTEND;TZID=America/New_York:20230604T150000
DTSTAMP:20260422T061531
CREATED:20230404T150451Z
LAST-MODIFIED:20230426T185009Z
UID:4347-1685887200-1685890800@ipswichmuseum.org
SUMMARY:Sunday Strolls: Ipswich in the Civil War
DESCRIPTION:From hardline abolitionists to well-known slaveholders\, Ipswich’s residents were long divided over the issue of slavery. By the time the Civil War broke out\, many answered the call to fight for the Union or support the troops from home. Learn about the fate of these soldiers and the role the town played in this pivotal moment in our nation’s history with local expert and author of “Ipswich in the Civil War\,” Scott Jewell. \nTickets: $10 Members / $15 Non-members \n  \n*Please note\, this date has been changed from April 30 to June 4*
URL:https://ipswichmuseum.org/event/sunday-strolls-ipswich-in-the-civil-war/
LOCATION:Ipswich Museum\, 54 South Main Street\, Ipswich\, MA\, 01938\, United States
CATEGORIES:Sunday Stroll
ATTACH;FMTTYPE=image/jpeg:https://ipswichmuseum.org/wp-content/uploads/2021/03/ED_slavery.jpg
END:VEVENT
BEGIN:VEVENT
DTSTART;TZID=America/New_York:20230521T140000
DTEND;TZID=America/New_York:20230521T150000
DTSTAMP:20260422T061531
CREATED:20230404T173225Z
LAST-MODIFIED:20230404T173225Z
UID:4353-1684677600-1684681200@ipswichmuseum.org
SUMMARY:Sunday Stroll: Ipswich 101
DESCRIPTION:Are you new to Ipswich or in the dark about this town’s long and rich history? This tour is designed as a crash course through Ipswich’s past. Join Stephanie Gaskins on a walk through some of the highlights and lowlights that have shaped this great town over thousands of years. \nTickets: $10 Members | $15 Non-members
URL:https://ipswichmuseum.org/event/sunday-stroll-ipswich-101/
LOCATION:Ipswich Museum\, 54 South Main Street\, Ipswich\, MA\, 01938\, United States
CATEGORIES:Sunday Stroll
ATTACH;FMTTYPE=image/jpeg:https://ipswichmuseum.org/wp-content/uploads/2021/03/ARCHIVES1-scaled.jpg
END:VEVENT
BEGIN:VEVENT
DTSTART;TZID=America/New_York:20230514T140000
DTEND;TZID=America/New_York:20230514T150000
DTSTAMP:20260422T061531
CREATED:20230404T172913Z
LAST-MODIFIED:20230404T172913Z
UID:4351-1684072800-1684076400@ipswichmuseum.org
SUMMARY:Sunday Stroll: The Women of Ipswich
DESCRIPTION:Celebrate Mother’s Day with the stories of how women have shaped the town. From the wrongfully enslaved Jenny Slew to the visionaries of the Ipswich Female Seminary\, Stephanie Gaskins will guide you through Ipswich’s past from a new perspective. Mothers are free with a paying family member! \nTickets $10 Members | $15 Non-Members | Mothers are Free with paid ticket
URL:https://ipswichmuseum.org/event/sunday-stroll-the-women-of-ipswich/
LOCATION:Ipswich Museum\, 54 South Main Street\, Ipswich\, MA\, 01938\, United States
CATEGORIES:Sunday Stroll
ATTACH;FMTTYPE=image/jpeg:https://ipswichmuseum.org/wp-content/uploads/2021/02/ZilpahGrant-scaled-1-e1646930121215.jpg
END:VEVENT
BEGIN:VEVENT
DTSTART;TZID=America/New_York:20230507T140000
DTEND;TZID=America/New_York:20230507T150000
DTSTAMP:20260422T061531
CREATED:20230404T172511Z
LAST-MODIFIED:20230404T172511Z
UID:4349-1683468000-1683471600@ipswichmuseum.org
SUMMARY:Sunday Stroll: Dams and Bridges of Ipswich
DESCRIPTION:We use these bridges every day but hardly give them a second thought as significant pieces of history. Join Scott Jewell for a walk around town and learn about the stories our bridges and dams can tell.
URL:https://ipswichmuseum.org/event/sunday-stroll-dams-and-bridges-of-ipswich-2/
LOCATION:Ipswich Museum\, 54 South Main Street\, Ipswich\, MA\, 01938\, United States
CATEGORIES:Sunday Stroll
ATTACH;FMTTYPE=image/jpeg:https://ipswichmuseum.org/wp-content/uploads/2021/03/bridges-and-dams.jpg
END:VEVENT
BEGIN:VEVENT
DTSTART;TZID=America/New_York:20230423T140000
DTEND;TZID=America/New_York:20230423T150000
DTSTAMP:20260422T061531
CREATED:20230404T145915Z
LAST-MODIFIED:20230404T145915Z
UID:4345-1682258400-1682262000@ipswichmuseum.org
SUMMARY:Sunday Stroll: Ipswich in the Revolution
DESCRIPTION:Who knew that Ipswich was in the epicenter of the American Revolution? Join Scott Jewell on a walk around town and learn about what happened here 245 years ago. \nTickets $10 Members | $15 non-Members \n 
URL:https://ipswichmuseum.org/event/sunday-stroll-ipswich-in-the-revolution-2/
LOCATION:Ipswich Museum\, 54 South Main Street\, Ipswich\, MA\, 01938\, United States
CATEGORIES:Sunday Stroll
ATTACH;FMTTYPE=image/jpeg:https://ipswichmuseum.org/wp-content/uploads/2021/02/Revolutionary-War-Enlistment.jpg
END:VEVENT
BEGIN:VEVENT
DTSTART;TZID=America/New_York:20230416T140000
DTEND;TZID=America/New_York:20230416T150000
DTSTAMP:20260422T061531
CREATED:20230404T145620Z
LAST-MODIFIED:20230404T145620Z
UID:4343-1681653600-1681657200@ipswichmuseum.org
SUMMARY:Sunday Stroll: The Life and Art of Arthur Wesley Dow
DESCRIPTION:Join Ipswich Museum’s Dow Curator\, Stephanie Gaskins\, as she guides us around town through the life and work of Ipswich artist and educator\, Arthur Wesley Dow. \nTickets: $10 Members / $15 non-Members \n 
URL:https://ipswichmuseum.org/event/sunday-stroll-the-life-and-art-of-arthur-wesley-dow/
LOCATION:Ipswich Museum\, 54 South Main Street\, Ipswich\, MA\, 01938\, United States
CATEGORIES:Sunday Stroll
ATTACH;FMTTYPE=image/jpeg:https://ipswichmuseum.org/wp-content/uploads/2021/03/IMG-9240-scaled.jpg
END:VEVENT
BEGIN:VEVENT
DTSTART;TZID=America/New_York:20210523T140000
DTEND;TZID=America/New_York:20210523T150000
DTSTAMP:20260422T061531
CREATED:20210318T194758Z
LAST-MODIFIED:20210404T132514Z
UID:3487-1621778400-1621782000@ipswichmuseum.org
SUMMARY:Sunday Stroll - Ipswich Female Seminary
DESCRIPTION:Join Dow Curator\, Stephanie Gaskins\, on a journey back to the early 19th century when Ipswich was home to the Ipswich Female Seminary\, an early school for the higher education of women. \nLimit 10 people.\n$10 Tickets\, reservations required.\nReserve your tickets online or call the museum at 978-356-2811
URL:https://ipswichmuseum.org/event/sunday-stroll-ipswich-female-seminary/
LOCATION:Ipswich Museum\, 54 South Main Street\, Ipswich\, MA\, 01938\, United States
CATEGORIES:Sunday Stroll
ATTACH;FMTTYPE=image/jpeg:https://ipswichmuseum.org/wp-content/uploads/2021/03/female_seminary.jpg
END:VEVENT
BEGIN:VEVENT
DTSTART;TZID=America/New_York:20210516T140000
DTEND;TZID=America/New_York:20210516T150000
DTSTAMP:20260422T061531
CREATED:20210318T194315Z
LAST-MODIFIED:20210404T132446Z
UID:3485-1621173600-1621177200@ipswichmuseum.org
SUMMARY:Sunday Stroll - Slavery in Ipswich
DESCRIPTION:Join the museum’s educator\, Erin Rice\, on a walk around town to discuss the names  and forgotten labors of the enslaved people that lived here\, but also Ipswich’s links to the transatlantic slave trade\, the legalization of slavery throughout the colony\, and landmark freedom suits. \nLimit 10 people.\n$10 Tickets\, reservations required.\nReserve your tickets online or call the museum at 978-356-2811
URL:https://ipswichmuseum.org/event/sunday-stroll-slavery-in-ipswich/
LOCATION:Ipswich Museum\, 54 South Main Street\, Ipswich\, MA\, 01938\, United States
CATEGORIES:Sunday Stroll
ATTACH;FMTTYPE=image/jpeg:https://ipswichmuseum.org/wp-content/uploads/2021/03/Slavery-16-Elm.jpg
END:VEVENT
BEGIN:VEVENT
DTSTART;TZID=America/New_York:20210509T140000
DTEND;TZID=America/New_York:20210509T150000
DTSTAMP:20260422T061531
CREATED:20210318T192046Z
LAST-MODIFIED:20210404T132321Z
UID:3483-1620568800-1620572400@ipswichmuseum.org
SUMMARY:Sunday Stroll - Dams and Bridges of Ipswich
DESCRIPTION:We use these bridges everyday\, but hardly give them a second thought as significant pieces of history. Join Scott Jewel for a walk around the town and learn about the stories the bridges and dams can tell. \nLimit 10 people.\n$10 Tickets\, reservations required.\nReserve your tickets online or call the museum at 978-356-2811
URL:https://ipswichmuseum.org/event/sunday-stroll-dams-and-bridges-of-ipswich/
LOCATION:Ipswich Museum\, 54 South Main Street\, Ipswich\, MA\, 01938\, United States
CATEGORIES:Sunday Stroll
ATTACH;FMTTYPE=image/jpeg:https://ipswichmuseum.org/wp-content/uploads/2021/03/bridges-and-dams.jpg
END:VEVENT
BEGIN:VEVENT
DTSTART;TZID=America/New_York:20210502T140000
DTEND;TZID=America/New_York:20210502T150000
DTSTAMP:20260422T061531
CREATED:20210318T191729Z
LAST-MODIFIED:20210404T132720Z
UID:3481-1619964000-1619967600@ipswichmuseum.org
SUMMARY:Sunday Stroll - Arthur Wesley Dow's Ipswich
DESCRIPTION:Join Dow Curator Stephanie Gaskins as she guides us around town through the life and work of Ipswich artist\, Arthur Wesley Dow. \nLimit 10 people.\n$10 Tickets\, reservations required.\nReserve your tickets online or call the museum at 978-356-2811
URL:https://ipswichmuseum.org/event/sunday-stroll-arthur-wesley-dows-ipswich/
LOCATION:Ipswich Museum\, 54 South Main Street\, Ipswich\, MA\, 01938\, United States
CATEGORIES:Sunday Stroll
ATTACH;FMTTYPE=image/jpeg:https://ipswichmuseum.org/wp-content/uploads/2021/04/Dow-scaled.jpg
END:VEVENT
BEGIN:VEVENT
DTSTART;TZID=America/New_York:20210425T140000
DTEND;TZID=America/New_York:20210425T150000
DTSTAMP:20260422T061531
CREATED:20210318T191501Z
LAST-MODIFIED:20210404T132027Z
UID:3477-1619359200-1619362800@ipswichmuseum.org
SUMMARY:Sunday Stroll - The Port of Ipswich
DESCRIPTION:Did you know Ipswich was a custom port from 1705 -1844? Join Scott Jewel for a walk to the site of old port and explore this fascinating part of the town’s rich history. \nLimit 10 people.\n$10 Tickets\, reservations required.\nReserve your tickets online or call the museum at 978-356-2811
URL:https://ipswichmuseum.org/event/sunday-stroll-the-port-of-ipswich/
LOCATION:Ipswich Museum\, 54 South Main Street\, Ipswich\, MA\, 01938\, United States
CATEGORIES:Sunday Stroll
ATTACH;FMTTYPE=image/jpeg:https://ipswichmuseum.org/wp-content/uploads/2021/03/port-of-ipswich.jpg
END:VEVENT
BEGIN:VEVENT
DTSTART;TZID=America/New_York:20210418T140000
DTEND;TZID=America/New_York:20210418T150000
DTSTAMP:20260422T061532
CREATED:20210318T191025Z
LAST-MODIFIED:20210404T132002Z
UID:3475-1618754400-1618758000@ipswichmuseum.org
SUMMARY:Sunday Stroll - Ipswich in the Revolution
DESCRIPTION:Who knew that Ipswich was in the epicenter of the American Revolution? Join Scott Jewel on a walk around town and learn about what happened here 245 years ago. \nLimit 10 people. \n$10 Tickets\, reservations required. \nReserve your tickets online or call the museum at 978-356-2811 \n  \n 
URL:https://ipswichmuseum.org/event/sunday-stroll-ipswich-in-the-revolution/
LOCATION:Ipswich Museum\, 54 South Main Street\, Ipswich\, MA\, 01938\, United States
CATEGORIES:Sunday Stroll
ATTACH;FMTTYPE=image/jpeg:https://ipswichmuseum.org/wp-content/uploads/2021/03/Revolutionary-War-Enlistment.jpg
END:VEVENT
BEGIN:VEVENT
DTSTART;TZID=America/New_York:20210411T140000
DTEND;TZID=America/New_York:20210411T150000
DTSTAMP:20260422T061532
CREATED:20210318T175148Z
LAST-MODIFIED:20210404T131741Z
UID:3473-1618149600-1618153200@ipswichmuseum.org
SUMMARY:Sunday Stroll – A Geologic Tour of Ipswich
DESCRIPTION:There are two continents and an ancient ocean within a 1/4 mile of the Ipswich Museum. Join Scott Jewel on a walk around town and learn the hidden history beneath your feet. \nLimit 10 people.\n$10 Tickets\, reservations required.\nReserve your tickets online or call the museum at 978-356-2811
URL:https://ipswichmuseum.org/event/sunday-stroll-a-geologic-tour-of-ipswich/
LOCATION:Ipswich Museum\, 54 South Main Street\, Ipswich\, MA\, 01938\, United States
CATEGORIES:Sunday Stroll
ATTACH;FMTTYPE=image/jpeg:https://ipswichmuseum.org/wp-content/uploads/2021/03/geologic-tour.jpg
END:VEVENT
END:VCALENDAR