BEGIN:VCALENDAR
VERSION:2.0
PRODID:-//Ipswich Museum - ECPv6.15.18//NONSGML v1.0//EN
CALSCALE:GREGORIAN
METHOD:PUBLISH
X-ORIGINAL-URL:https://ipswichmuseum.org
X-WR-CALDESC:Events for Ipswich Museum
REFRESH-INTERVAL;VALUE=DURATION:PT1H
X-Robots-Tag:noindex
X-PUBLISHED-TTL:PT1H
BEGIN:VTIMEZONE
TZID:America/New_York
BEGIN:DAYLIGHT
TZOFFSETFROM:-0500
TZOFFSETTO:-0400
TZNAME:EDT
DTSTART:20250309T070000
END:DAYLIGHT
BEGIN:STANDARD
TZOFFSETFROM:-0400
TZOFFSETTO:-0500
TZNAME:EST
DTSTART:20251102T060000
END:STANDARD
BEGIN:DAYLIGHT
TZOFFSETFROM:-0500
TZOFFSETTO:-0400
TZNAME:EDT
DTSTART:20260308T070000
END:DAYLIGHT
BEGIN:STANDARD
TZOFFSETFROM:-0400
TZOFFSETTO:-0500
TZNAME:EST
DTSTART:20261101T060000
END:STANDARD
BEGIN:DAYLIGHT
TZOFFSETFROM:-0500
TZOFFSETTO:-0400
TZNAME:EDT
DTSTART:20270314T070000
END:DAYLIGHT
BEGIN:STANDARD
TZOFFSETFROM:-0400
TZOFFSETTO:-0500
TZNAME:EST
DTSTART:20271107T060000
END:STANDARD
END:VTIMEZONE
BEGIN:VEVENT
DTSTART;TZID=America/New_York:20260531T140000
DTEND;TZID=America/New_York:20260531T150000
DTSTAMP:20260422T110213
CREATED:20260211T182745Z
LAST-MODIFIED:20260407T191917Z
UID:5426-1780236000-1780239600@ipswichmuseum.org
SUMMARY:The Dams and Bridges of Ipswich Sunday Stroll
DESCRIPTION:We use these bridges every day\, but hardly give them a second thought as significant pieces of history. Join Scott Jewell for a walk around the town and learn about the stories the bridges and dams can tell. \nWhen: Sunday May 31\, 2026 2-3PM  (Please note updated date – previously May 3\, 2026) \nWhere: The tour will depart from the Ipswich Museum parking lot at 2PM and will last 45-60 minutes. \nCost: $10 Members / $15 Non-members \nTours take place rain or shine\, please dress accordingly. In the event of extreme weather\, they will be cancelled and tickets refunded.
URL:https://ipswichmuseum.org/event/the-dams-and-bridges-of-ipswich-sunday-stroll/
LOCATION:Ipswich Museum\, 54 South Main Street\, Ipswich\, MA\, 01938\, United States
CATEGORIES:Sunday Stroll
END:VEVENT
END:VCALENDAR