BEGIN:VCALENDAR
VERSION:2.0
PRODID:-//Ipswich Museum - ECPv6.15.18//NONSGML v1.0//EN
CALSCALE:GREGORIAN
METHOD:PUBLISH
X-WR-CALNAME:Ipswich Museum
X-ORIGINAL-URL:https://ipswichmuseum.org
X-WR-CALDESC:Events for Ipswich Museum
REFRESH-INTERVAL;VALUE=DURATION:PT1H
X-Robots-Tag:noindex
X-PUBLISHED-TTL:PT1H
BEGIN:VTIMEZONE
TZID:America/New_York
BEGIN:DAYLIGHT
TZOFFSETFROM:-0500
TZOFFSETTO:-0400
TZNAME:EDT
DTSTART:20250309T070000
END:DAYLIGHT
BEGIN:STANDARD
TZOFFSETFROM:-0400
TZOFFSETTO:-0500
TZNAME:EST
DTSTART:20251102T060000
END:STANDARD
BEGIN:DAYLIGHT
TZOFFSETFROM:-0500
TZOFFSETTO:-0400
TZNAME:EDT
DTSTART:20260308T070000
END:DAYLIGHT
BEGIN:STANDARD
TZOFFSETFROM:-0400
TZOFFSETTO:-0500
TZNAME:EST
DTSTART:20261101T060000
END:STANDARD
BEGIN:DAYLIGHT
TZOFFSETFROM:-0500
TZOFFSETTO:-0400
TZNAME:EDT
DTSTART:20270314T070000
END:DAYLIGHT
BEGIN:STANDARD
TZOFFSETFROM:-0400
TZOFFSETTO:-0500
TZNAME:EST
DTSTART:20271107T060000
END:STANDARD
END:VTIMEZONE
BEGIN:VEVENT
DTSTART;TZID=America/New_York:20260510T140000
DTEND;TZID=America/New_York:20260510T150000
DTSTAMP:20260422T061646
CREATED:20260211T183333Z
LAST-MODIFIED:20260211T183333Z
UID:5430-1778421600-1778425200@ipswichmuseum.org
SUMMARY:The Women of Ipswich Sunday Stroll
DESCRIPTION:Celebrate Mother’s Day with the stories of how women have shaped the town. From the wrongfully enslaved Jenny Slew to the visionaries of the Ipswich Female Seminary\, Stephanie Gaskins will guide you through Ipswich’s past from a new perspective. Mothers are free with a paying family member! \nWhen: Sunday May 10\, 2026 2-3PM \nWhere: The tour will depart from the Ipswich Museum parking lot at 2PM and will last 45-60 minutes. \nCost: $10 Members / $15 Non-members + Free for moms with a paying family member \nTours take place rain or shine\, please dress accordingly. In the event of extreme weather\, they will be cancelled and tickets refunded. \n 
URL:https://ipswichmuseum.org/event/the-women-of-ipswich-sunday-stroll/
LOCATION:Ipswich Museum\, 54 South Main Street\, Ipswich\, MA\, 01938\, United States
CATEGORIES:Sunday Stroll
END:VEVENT
END:VCALENDAR