BEGIN:VCALENDAR
VERSION:2.0
PRODID:-//Ipswich Museum - ECPv6.15.18//NONSGML v1.0//EN
CALSCALE:GREGORIAN
METHOD:PUBLISH
X-WR-CALNAME:Ipswich Museum
X-ORIGINAL-URL:https://ipswichmuseum.org
X-WR-CALDESC:Events for Ipswich Museum
REFRESH-INTERVAL;VALUE=DURATION:PT1H
X-Robots-Tag:noindex
X-PUBLISHED-TTL:PT1H
BEGIN:VTIMEZONE
TZID:America/New_York
BEGIN:DAYLIGHT
TZOFFSETFROM:-0500
TZOFFSETTO:-0400
TZNAME:EDT
DTSTART:20250309T070000
END:DAYLIGHT
BEGIN:STANDARD
TZOFFSETFROM:-0400
TZOFFSETTO:-0500
TZNAME:EST
DTSTART:20251102T060000
END:STANDARD
BEGIN:DAYLIGHT
TZOFFSETFROM:-0500
TZOFFSETTO:-0400
TZNAME:EDT
DTSTART:20260308T070000
END:DAYLIGHT
BEGIN:STANDARD
TZOFFSETFROM:-0400
TZOFFSETTO:-0500
TZNAME:EST
DTSTART:20261101T060000
END:STANDARD
BEGIN:DAYLIGHT
TZOFFSETFROM:-0500
TZOFFSETTO:-0400
TZNAME:EDT
DTSTART:20270314T070000
END:DAYLIGHT
BEGIN:STANDARD
TZOFFSETFROM:-0400
TZOFFSETTO:-0500
TZNAME:EST
DTSTART:20271107T060000
END:STANDARD
END:VTIMEZONE
BEGIN:VEVENT
DTSTART;TZID=America/New_York:20260302T120000
DTEND;TZID=America/New_York:20260302T130000
DTSTAMP:20260422T044631
CREATED:20251119T205323Z
LAST-MODIFIED:20260106T200759Z
UID:5360-1772452800-1772456400@ipswichmuseum.org
SUMMARY:The Early Voyages of Augustine Heard
DESCRIPTION:Join Robert Gray\, Heard descendant as he talks about his recent research on his family. \nDuring the late 1830s Augustine Heard of Ipswich composed a list of his early voyages during 1805-1830\, from ship “Eliza” to Leghorn from Eben Francis through barque “Lintin to Canton with Bennet Forbes.  This talk provides an illustrated embellishment of Heard’s list and the ships\, people\, and places involved—including the most famous of the voyages popularized in books by Robert Bennet Forbes\, Thomas Franklin Waters\, and Samuel Eliot Morison. Several contradictions and inconsistencies among the stories are resolved and reconciled with historical documents.
URL:https://ipswichmuseum.org/event/the-early-voyages-of-augustine-heard/
LOCATION:Ipswich Museum\, 54 South Main Street\, Ipswich\, MA\, 01938\, United States
CATEGORIES:Brown Bag Lunch
END:VEVENT
END:VCALENDAR