BEGIN:VCALENDAR
VERSION:2.0
PRODID:-//Ipswich Museum - ECPv6.15.18//NONSGML v1.0//EN
CALSCALE:GREGORIAN
METHOD:PUBLISH
X-WR-CALNAME:Ipswich Museum
X-ORIGINAL-URL:https://ipswichmuseum.org
X-WR-CALDESC:Events for Ipswich Museum
REFRESH-INTERVAL;VALUE=DURATION:PT1H
X-Robots-Tag:noindex
X-PUBLISHED-TTL:PT1H
BEGIN:VTIMEZONE
TZID:America/New_York
BEGIN:DAYLIGHT
TZOFFSETFROM:-0500
TZOFFSETTO:-0400
TZNAME:EDT
DTSTART:20250309T070000
END:DAYLIGHT
BEGIN:STANDARD
TZOFFSETFROM:-0400
TZOFFSETTO:-0500
TZNAME:EST
DTSTART:20251102T060000
END:STANDARD
BEGIN:DAYLIGHT
TZOFFSETFROM:-0500
TZOFFSETTO:-0400
TZNAME:EDT
DTSTART:20260308T070000
END:DAYLIGHT
BEGIN:STANDARD
TZOFFSETFROM:-0400
TZOFFSETTO:-0500
TZNAME:EST
DTSTART:20261101T060000
END:STANDARD
BEGIN:DAYLIGHT
TZOFFSETFROM:-0500
TZOFFSETTO:-0400
TZNAME:EDT
DTSTART:20270314T070000
END:DAYLIGHT
BEGIN:STANDARD
TZOFFSETFROM:-0400
TZOFFSETTO:-0500
TZNAME:EST
DTSTART:20271107T060000
END:STANDARD
END:VTIMEZONE
BEGIN:VEVENT
DTSTART;TZID=America/New_York:20260422T193000
DTEND;TZID=America/New_York:20260422T210000
DTSTAMP:20260422T061209
CREATED:20251119T204333Z
LAST-MODIFIED:20260106T200719Z
UID:5346-1776886200-1776891600@ipswichmuseum.org
SUMMARY:Swamp Yankee Adventures Chronicle of a Journalist in Low Orbit Around the World
DESCRIPTION:Join Crocker Snow Jr.\, journalist\, author\, as he takes you on a personal  journey where he chronicles his life both nationally\, internationally and locally.  His focus has been on international affairs for public radio\, TV and for the Boston Globe\, World Times\, The World Paper\, was editor in chief of World Times and the World Paper and as director of the Murrow Center of public Diplomacy at the Fletcher School. He has been engaged as a citizen of the world concerned with world issues all of his life time.
URL:https://ipswichmuseum.org/event/swamp-yankee-adventures-chronicle-of-a-journalist-in-low-orbit-around-the-world/
LOCATION:Ipswich Museum\, 54 South Main Street\, Ipswich\, MA\, 01938\, United States
CATEGORIES:Wednesday Evening Lecture
END:VEVENT
END:VCALENDAR