BEGIN:VCALENDAR
VERSION:2.0
PRODID:-//Ipswich Museum - ECPv6.15.18//NONSGML v1.0//EN
CALSCALE:GREGORIAN
METHOD:PUBLISH
X-WR-CALNAME:Ipswich Museum
X-ORIGINAL-URL:https://ipswichmuseum.org
X-WR-CALDESC:Events for Ipswich Museum
REFRESH-INTERVAL;VALUE=DURATION:PT1H
X-Robots-Tag:noindex
X-PUBLISHED-TTL:PT1H
BEGIN:VTIMEZONE
TZID:America/New_York
BEGIN:DAYLIGHT
TZOFFSETFROM:-0500
TZOFFSETTO:-0400
TZNAME:EDT
DTSTART:20240310T070000
END:DAYLIGHT
BEGIN:STANDARD
TZOFFSETFROM:-0400
TZOFFSETTO:-0500
TZNAME:EST
DTSTART:20241103T060000
END:STANDARD
BEGIN:DAYLIGHT
TZOFFSETFROM:-0500
TZOFFSETTO:-0400
TZNAME:EDT
DTSTART:20250309T070000
END:DAYLIGHT
BEGIN:STANDARD
TZOFFSETFROM:-0400
TZOFFSETTO:-0500
TZNAME:EST
DTSTART:20251102T060000
END:STANDARD
BEGIN:DAYLIGHT
TZOFFSETFROM:-0500
TZOFFSETTO:-0400
TZNAME:EDT
DTSTART:20260308T070000
END:DAYLIGHT
BEGIN:STANDARD
TZOFFSETFROM:-0400
TZOFFSETTO:-0500
TZNAME:EST
DTSTART:20261101T060000
END:STANDARD
END:VTIMEZONE
BEGIN:VEVENT
DTSTART;TZID=America/New_York:20250219T193000
DTEND;TZID=America/New_York:20250219T210000
DTSTAMP:20260422T202510
CREATED:20241011T182702Z
LAST-MODIFIED:20250129T195300Z
UID:4828-1739993400-1739998800@ipswichmuseum.org
SUMMARY:Ski America First (Documentary)
DESCRIPTION:Join us for an exciting presentation by speaker Tom Blake as he showcases part two of the documentary\, Ski America First\, filmed by Sidney Shurcliff. According to the Park Service Bulletin of 1938\, superintendents of Mount Rainier and Yosemite were bracing for a surge of skiers\, thanks to the stunning all-natural color film\, which skiing authorities have hailed as the finest of its kind in America. \nThis remarkable documentary captivated over 3\,000 viewers during its debut at the National Geographic Society in March 1938 and has enjoyed a dozen successful screenings across the East since then. Don’t miss your chance to experience this cinematic gem that celebrates the beauty and excitement of skiing in America! \nMembers: Free | Non-members: $10
URL:https://ipswichmuseum.org/event/ski-america-first-documentary/
LOCATION:Ipswich Museum\, 54 South Main Street\, Ipswich\, MA\, 01938\, United States
END:VEVENT
END:VCALENDAR