BEGIN:VCALENDAR
VERSION:2.0
PRODID:-//Ipswich Museum - ECPv6.15.18//NONSGML v1.0//EN
CALSCALE:GREGORIAN
METHOD:PUBLISH
X-ORIGINAL-URL:https://ipswichmuseum.org
X-WR-CALDESC:Events for Ipswich Museum
REFRESH-INTERVAL;VALUE=DURATION:PT1H
X-Robots-Tag:noindex
X-PUBLISHED-TTL:PT1H
BEGIN:VTIMEZONE
TZID:America/New_York
BEGIN:DAYLIGHT
TZOFFSETFROM:-0500
TZOFFSETTO:-0400
TZNAME:EDT
DTSTART:20240310T070000
END:DAYLIGHT
BEGIN:STANDARD
TZOFFSETFROM:-0400
TZOFFSETTO:-0500
TZNAME:EST
DTSTART:20241103T060000
END:STANDARD
BEGIN:DAYLIGHT
TZOFFSETFROM:-0500
TZOFFSETTO:-0400
TZNAME:EDT
DTSTART:20250309T070000
END:DAYLIGHT
BEGIN:STANDARD
TZOFFSETFROM:-0400
TZOFFSETTO:-0500
TZNAME:EST
DTSTART:20251102T060000
END:STANDARD
BEGIN:DAYLIGHT
TZOFFSETFROM:-0500
TZOFFSETTO:-0400
TZNAME:EDT
DTSTART:20260308T070000
END:DAYLIGHT
BEGIN:STANDARD
TZOFFSETFROM:-0400
TZOFFSETTO:-0500
TZNAME:EST
DTSTART:20261101T060000
END:STANDARD
END:VTIMEZONE
BEGIN:VEVENT
DTSTART;TZID=America/New_York:20250203T120000
DTEND;TZID=America/New_York:20250203T130000
DTSTAMP:20260422T202524
CREATED:20241015T185153Z
LAST-MODIFIED:20241015T185247Z
UID:4847-1738584000-1738587600@ipswichmuseum.org
SUMMARY:Spark's Tavern
DESCRIPTION:Gordon Harris\, town historian\, will talk about the importance of Spark’s Tavern and its role serving as a not only a watering hole but an inn\, court house\, and town meeting place. Ipswich did not have a town hall in the 17th century\, but two very important events took place at Spark’s Tavern. It was here in 1686 that the town voted not to appoint a tax collector for the king. This is why Ipswich is known as the “Birthplace of American Independence.” Additionally\, after the infamous witch trials were moved out of Salem to Spark’s Tavern\, the last four accused were tried and found innocent\, and outstanding charges against them were dismissed. \nMembers: Free | Non-members: $5
URL:https://ipswichmuseum.org/event/sparks-tavern/
LOCATION:Ipswich Museum\, 54 South Main Street\, Ipswich\, MA\, 01938\, United States
END:VEVENT
END:VCALENDAR