BEGIN:VCALENDAR
VERSION:2.0
PRODID:-//Ipswich Museum - ECPv6.15.18//NONSGML v1.0//EN
CALSCALE:GREGORIAN
METHOD:PUBLISH
X-ORIGINAL-URL:https://ipswichmuseum.org
X-WR-CALDESC:Events for Ipswich Museum
REFRESH-INTERVAL;VALUE=DURATION:PT1H
X-Robots-Tag:noindex
X-PUBLISHED-TTL:PT1H
BEGIN:VTIMEZONE
TZID:America/New_York
BEGIN:DAYLIGHT
TZOFFSETFROM:-0500
TZOFFSETTO:-0400
TZNAME:EDT
DTSTART:20230312T070000
END:DAYLIGHT
BEGIN:STANDARD
TZOFFSETFROM:-0400
TZOFFSETTO:-0500
TZNAME:EST
DTSTART:20231105T060000
END:STANDARD
BEGIN:DAYLIGHT
TZOFFSETFROM:-0500
TZOFFSETTO:-0400
TZNAME:EDT
DTSTART:20240310T070000
END:DAYLIGHT
BEGIN:STANDARD
TZOFFSETFROM:-0400
TZOFFSETTO:-0500
TZNAME:EST
DTSTART:20241103T060000
END:STANDARD
BEGIN:DAYLIGHT
TZOFFSETFROM:-0500
TZOFFSETTO:-0400
TZNAME:EDT
DTSTART:20250309T070000
END:DAYLIGHT
BEGIN:STANDARD
TZOFFSETFROM:-0400
TZOFFSETTO:-0500
TZNAME:EST
DTSTART:20251102T060000
END:STANDARD
END:VTIMEZONE
BEGIN:VEVENT
DTSTART;TZID=America/New_York:20241104T120000
DTEND;TZID=America/New_York:20241104T130000
DTSTAMP:20260422T140322
CREATED:20231214T145401Z
LAST-MODIFIED:20241031T182149Z
UID:4532-1730721600-1730725200@ipswichmuseum.org
SUMMARY:Bag Lunch Series: Historic and Ecological Significance of the Butterfly Meadow
DESCRIPTION:Mike DeRosa of DeRosa & Assoc. will discuss the Butterfly Meadow. 18th and 19th century maps for Ipswich reveal the property\, located across from the Heard House\, remained a rare surviving example of open space along the river as the village developed its densely settled contemporary appearance. Today\, the property represents a small ecological habitat. Its proximity to the Great Marsh increases its potential to attract migrating birds and butterfly populations. Mike DeRosa will talk about the meadow’s significance and diversity of soils\, plant cover and invasives. DeRosa Environmental Consulting are helping with management of the meadow. \nMembers: Free | Non-members: $5 \n 
URL:https://ipswichmuseum.org/event/bag-lunch-series-historic-and-ecological-significance-of-the-butterfly-meadow/
LOCATION:Ipswich Museum\, 54 South Main Street\, Ipswich\, MA\, 01938\, United States
CATEGORIES:Brown Bag Lunch
ORGANIZER;CN="Ipswich Museum":MAILTO:office@ipswichmuseum.org
END:VEVENT
END:VCALENDAR